BEGIN:VCALENDAR
VERSION:2.0
PRODID:-//Schaefer Center for the Performing Arts - ECPv6.15.20//NONSGML v1.0//EN
CALSCALE:GREGORIAN
METHOD:PUBLISH
X-ORIGINAL-URL:https://schaefercenter.appstate.edu
X-WR-CALDESC:Events for Schaefer Center for the Performing Arts
REFRESH-INTERVAL;VALUE=DURATION:PT1H
X-Robots-Tag:noindex
X-PUBLISHED-TTL:PT1H
BEGIN:VTIMEZONE
TZID:America/New_York
BEGIN:DAYLIGHT
TZOFFSETFROM:-0500
TZOFFSETTO:-0400
TZNAME:EDT
DTSTART:20250309T070000
END:DAYLIGHT
BEGIN:STANDARD
TZOFFSETFROM:-0400
TZOFFSETTO:-0500
TZNAME:EST
DTSTART:20251102T060000
END:STANDARD
BEGIN:DAYLIGHT
TZOFFSETFROM:-0500
TZOFFSETTO:-0400
TZNAME:EDT
DTSTART:20260308T070000
END:DAYLIGHT
BEGIN:STANDARD
TZOFFSETFROM:-0400
TZOFFSETTO:-0500
TZNAME:EST
DTSTART:20261101T060000
END:STANDARD
BEGIN:DAYLIGHT
TZOFFSETFROM:-0500
TZOFFSETTO:-0400
TZNAME:EDT
DTSTART:20270314T070000
END:DAYLIGHT
BEGIN:STANDARD
TZOFFSETFROM:-0400
TZOFFSETTO:-0500
TZNAME:EST
DTSTART:20271107T060000
END:STANDARD
END:VTIMEZONE
BEGIN:VEVENT
DTSTART;TZID=America/New_York:20260419T140000
DTEND;TZID=America/New_York:20260419T140000
DTSTAMP:20260420T071047
CREATED:20260401T143929Z
LAST-MODIFIED:20260401T143933Z
UID:10000220-1776607200-1776607200@schaefercenter.appstate.edu
SUMMARY:Once Upon a Mattress
DESCRIPTION:Music by MARY RODGERS; Lyrics by MARSHALL BARER; Book by JAY THOMPSON\, DEAN FULLER\, and MARSHALL BARER\nPresented by the Hayes School of Music and the Department of Theatre and Dance \nDirected and Choreographed by Kevin Warner; Music Direction by Joby Bell and Tyler Young; Appalachian Symphony Orchestra Directed by Alexandra Dee \nMany moons ago in a far-off place\, Queen Aggravain decreed that no couples could marry until her son\, Prince Dauntless\, found a bride. Princesses came from far and wide to win the hand of the prince\, but none could pass the impossible tests given to them by the Queen. That is\, until the “shy” swamp princess\, Winnifred the Woebegone\, showed up. Would she be able to pass the Sensitivity Test\, marry her prince\, and help Lady Larken and Sir Harry to the altar? Carried on a wave of wonderful songs\, by turns hilarious and raucous\, romantic and melodic\, this rollicking spin on the classic tale The Princess and the Pea provides some side-splitting shenanigans. For after all\, a princess is a delicate thing.  \nONCE UPON A MATTRESS is presented by arrangement with Concord Theatricals. www.concordtheatricals.com \nTicketsStudents $10\, Faculty/Staff $15\, Adults $17 \n\nBuy Tickets Here \nLearn more about the performance and purchase tickets at the Department of Theatre and Dance website.
URL:https://schaefercenter.appstate.edu/event/once-upon-a-mattress-5/
LOCATION:Valborg Theatre\, 480 Howard Street\, Boone\, NC\, 28608\, United States
CATEGORIES:Campus and Community,Theatre and Dance
ATTACH;FMTTYPE=image/jpeg:https://schaefercenter.appstate.edu/wp-content/uploads/2026/04/Schaefer-OUAM.jpeg
END:VEVENT
BEGIN:VEVENT
DTSTART;TZID=America/New_York:20260421T200000
DTEND;TZID=America/New_York:20260421T200000
DTSTAMP:20260420T071047
CREATED:20260224T204841Z
LAST-MODIFIED:20260224T204942Z
UID:10000208-1776801600-1776801600@schaefercenter.appstate.edu
SUMMARY:Appalachian Wind Ensemble
DESCRIPTION:Conducted by Dr. John Stanley Ross\, the Appalachian Wind Ensemble performs wind literature of the highest caliber\, from classic repertoire to world premieres by living composers. The ensemble represents many of the finest instrumentalists within the Hayes School of Music. \n\n\nAdmission is FREE and open to the public. No ticket is required. \n  \nVisit https://music.appstate.edu/performances for a live-stream and a calendar of upcoming Hayes School of Music events.\n \n \n\nFor a disability accommodation\, visit odr.appstate.edu.
URL:https://schaefercenter.appstate.edu/event/appalachian-wind-ensemble/
LOCATION:Schaefer Center for the Performing Arts\, 733 Rivers Street\, Boone\, NC\, 28607\, United States
CATEGORIES:Campus and Community,Free Event,Hayes School of Music
ATTACH;FMTTYPE=image/jpeg:https://schaefercenter.appstate.edu/wp-content/uploads/2026/02/April-21-windensemble_021126_MKH_BandPhotos_29.jpg
END:VEVENT
BEGIN:VEVENT
DTSTART;TZID=America/New_York:20260425T180000
DTEND;TZID=America/New_York:20260425T180000
DTSTAMP:20260420T071047
CREATED:20260224T205159Z
LAST-MODIFIED:20260224T205203Z
UID:10000209-1777140000-1777140000@schaefercenter.appstate.edu
SUMMARY:Appalachian Symphony Band and Symphony Orchestra
DESCRIPTION:This spring finale concert features performances by the Appalachian Symphony Band (directed by Dr. Jason Gardner) and the Appalachian Symphony Orchestra (directed by Dr. Alexandra Dee)\, auditioned ensembles of students from the Hayes School of Music and across Appalachian State University. \n\n\nAdmission is FREE and open to the public. No ticket is required. \n  \nVisit https://music.appstate.edu/performances for a live-stream and a calendar of upcoming Hayes School of Music events.\n \n \n\nFor a disability accommodation\, visit odr.appstate.edu.
URL:https://schaefercenter.appstate.edu/event/appalachian-symphony-band-and-symphony-orchestra/
LOCATION:Schaefer Center for the Performing Arts\, 733 Rivers Street\, Boone\, NC\, 28607\, United States
CATEGORIES:Campus and Community,Free Event,Hayes School of Music
ATTACH;FMTTYPE=image/png:https://schaefercenter.appstate.edu/wp-content/uploads/2026/02/April-25-Symphony-Band-and-Orchestra-spliced.png
END:VEVENT
BEGIN:VEVENT
DTSTART;TZID=America/New_York:20260426T140000
DTEND;TZID=America/New_York:20260426T140000
DTSTAMP:20260420T071047
CREATED:20260224T205338Z
LAST-MODIFIED:20260224T205423Z
UID:10000210-1777212000-1777212000@schaefercenter.appstate.edu
SUMMARY:Appalachian Concert Band
DESCRIPTION: \n\n Admission is FREE and open to the public. No ticket is required. \n  \nVisit https://music.appstate.edu/performances for a live-stream and a calendar of upcoming Hayes School of Music events.\n \n \n\nFor a disability accommodation\, visit odr.appstate.edu.
URL:https://schaefercenter.appstate.edu/event/appalachian-concert-band-2/
LOCATION:Schaefer Center for the Performing Arts\, 733 Rivers Street\, Boone\, NC\, 28607\, United States
CATEGORIES:Campus and Community,Free Event,Hayes School of Music
ATTACH;FMTTYPE=image/png:https://schaefercenter.appstate.edu/wp-content/uploads/2026/02/March-24-April-26-concert-band.png
END:VEVENT
END:VCALENDAR