BEGIN:VCALENDAR
VERSION:2.0
PRODID:-//Schaefer Center for the Performing Arts - ECPv6.15.20//NONSGML v1.0//EN
CALSCALE:GREGORIAN
METHOD:PUBLISH
X-ORIGINAL-URL:https://schaefercenter.appstate.edu
X-WR-CALDESC:Events for Schaefer Center for the Performing Arts
REFRESH-INTERVAL;VALUE=DURATION:PT1H
X-Robots-Tag:noindex
X-PUBLISHED-TTL:PT1H
BEGIN:VTIMEZONE
TZID:America/New_York
BEGIN:DAYLIGHT
TZOFFSETFROM:-0500
TZOFFSETTO:-0400
TZNAME:EDT
DTSTART:20240310T070000
END:DAYLIGHT
BEGIN:STANDARD
TZOFFSETFROM:-0400
TZOFFSETTO:-0500
TZNAME:EST
DTSTART:20241103T060000
END:STANDARD
BEGIN:DAYLIGHT
TZOFFSETFROM:-0500
TZOFFSETTO:-0400
TZNAME:EDT
DTSTART:20250309T070000
END:DAYLIGHT
BEGIN:STANDARD
TZOFFSETFROM:-0400
TZOFFSETTO:-0500
TZNAME:EST
DTSTART:20251102T060000
END:STANDARD
BEGIN:DAYLIGHT
TZOFFSETFROM:-0500
TZOFFSETTO:-0400
TZNAME:EDT
DTSTART:20260308T070000
END:DAYLIGHT
BEGIN:STANDARD
TZOFFSETFROM:-0400
TZOFFSETTO:-0500
TZNAME:EST
DTSTART:20261101T060000
END:STANDARD
END:VTIMEZONE
BEGIN:VEVENT
DTSTART;TZID=America/New_York:20251003T190000
DTEND;TZID=America/New_York:20251003T190000
DTSTAMP:20260419T080623
CREATED:20250922T134631Z
LAST-MODIFIED:20250922T134636Z
UID:10000169-1759518000-1759518000@schaefercenter.appstate.edu
SUMMARY:Life Sucks.
DESCRIPTION:Adapted by Aaron Posner from Anton Checkhov’s Uncle Vanya\nDirected by Elizabeth Parks \nThis is a play about love and longing. In this contemporary reworking of Chekhov’s Uncle Vanya\, a group of old friends\, ex-lovers\, estranged in-laws\, and lifelong frenemies gather to grapple with life’s thorniest questions\, the state of the world\, and each other. Over drinks\, fights\, and moments of intimacy seven souls collide and stumble through life concluding that LIFE SUCKS! Or does it? Seriously\, what does life do? Produced with special arrangement by Dramatists Play Service.All evening performances begin promptly at 7 p.m. with matinee curtains at 2 p.m. \nLife Sucks is presented by special arrangement with Broadway Licensing\, LLC\, servicing the Dramatists Play Service collection. (www.dramatists.com) \nCONTENT WARNING: \n\nStrong language and sexually explicit language\nDepictions of physical violence and gun fire\nDiscussion of suicide\, self-harm\, and mental illness\n\n\n \nTicketsStudents $10\, Faculty/Staff $15\, Adults $17 \nBuy Tickets Here \nLearn more about the performance and purchase tickets at the Department of Theatre and Dance website.
URL:https://schaefercenter.appstate.edu/event/life-sucks-3/
LOCATION:Valborg Theatre\, 480 Howard Street\, Boone\, NC\, 28608\, United States
CATEGORIES:Campus and Community,Theatre and Dance
ATTACH;FMTTYPE=image/jpeg:https://schaefercenter.appstate.edu/wp-content/uploads/2025/09/Life-Sucks-Schaefer.jpeg
END:VEVENT
END:VCALENDAR